BEGIN:VCALENDAR
VERSION:2.0
PRODID:-//wp-events-plugin.com//7.2.3.1//EN
TZID:America/New_York
X-WR-TIMEZONE:America/New_York
BEGIN:VEVENT
UID:19@flwheatenclub.org
DTSTART;TZID=America/New_York:20241030T183000
DTEND;TZID=America/New_York:20241030T203000
DTSTAMP:20240331T195152Z
URL:https://flwheatenclub.org/events/board-meeting-4/
SUMMARY:Board Meeting (4 of 4)
DESCRIPTION:\n\n\n\n\nBoard Meeting #4 of 4\n\n6:30 PM\n\n\n\n\n
CATEGORIES:board
END:VEVENT
BEGIN:VTIMEZONE
TZID:America/New_York
X-LIC-LOCATION:America/New_York
BEGIN:DAYLIGHT
DTSTART:20240310T030000
TZOFFSETFROM:-0500
TZOFFSETTO:-0400
TZNAME:EDT
END:DAYLIGHT
END:VTIMEZONE
END:VCALENDAR