BEGIN:VCALENDAR
VERSION:2.0
PRODID:-//wp-events-plugin.com//7.2.3.1//EN
TZID:America/New_York
X-WR-TIMEZONE:America/New_York
BEGIN:VEVENT
UID:23@flwheatenclub.org
DTSTART;TZID=America/New_York:20241204T183000
DTEND;TZID=America/New_York:20241204T203000
DTSTAMP:20240331T195152Z
URL:https://flwheatenclub.org/events/board-meeting-5/
SUMMARY:Board Meeting\, 6:30 PM Optional To discuss 2024 Annual Mtg & board
  nominations (??)
DESCRIPTION:\n\n\n\n\nDec. 4\n\nBoard Meeting\, 6:30 PM\n\nOptional\n\nTo d
 iscuss 2024 Annual Mtg &amp\; board nominations (??)\n\n\n\n\n
CATEGORIES:board
END:VEVENT
BEGIN:VTIMEZONE
TZID:America/New_York
X-LIC-LOCATION:America/New_York
BEGIN:STANDARD
DTSTART:20241103T010000
TZOFFSETFROM:-0400
TZOFFSETTO:-0500
TZNAME:EST
END:STANDARD
END:VTIMEZONE
END:VCALENDAR