BEGIN:VCALENDAR
VERSION:2.0
PRODID:-//wp-events-plugin.com//7.2.3.1//EN
TZID:America/New_York
X-WR-TIMEZONE:America/New_York
BEGIN:VEVENT
UID:22@flwheatenclub.org
DTSTART;TZID=America/New_York;VALUE=DATE:20241115
DTEND;TZID=America/New_York;VALUE=DATE:20241116
DTSTAMP:20240331T195830Z
URL:https://flwheatenclub.org/events/bod-slate-announced-additional-nomina
 tions-accepted-from-voting-members/
SUMMARY:BOD Slate Announced\, Additional Nominations Accepted from Voting M
 embers
DESCRIPTION:\n\n\n\n\nNov. 15\n\nBOD Slate Announced\, Additional Nominatio
 ns Accepted from Voting Members\n\n\n\n\n
CATEGORIES:member
END:VEVENT
BEGIN:VTIMEZONE
TZID:America/New_York
X-LIC-LOCATION:America/New_York
BEGIN:STANDARD
DTSTART:20241103T010000
TZOFFSETFROM:-0400
TZOFFSETTO:-0500
TZNAME:EST
END:STANDARD
END:VTIMEZONE
END:VCALENDAR