BEGIN:VCALENDAR
VERSION:2.0
PRODID:-//wp-events-plugin.com//7.2.3.1//EN
TZID:America/New_York
X-WR-TIMEZONE:America/New_York
BEGIN:VEVENT
UID:30@flwheatenclub.org
DTSTART;TZID=America/New_York;VALUE=DATE:20240109
DTEND;TZID=America/New_York;VALUE=DATE:20240110
DTSTAMP:20240331T183807Z
URL:https://flwheatenclub.org/events/fla-solicitation-permit-renewal-deadl
 ine-fl-dept-agriculture-if-not-already-renewed-in-december/
SUMMARY:FLA Solicitation Permit Renewal Deadline\, FL Dept. Agriculture If 
 not already renewed in December
DESCRIPTION:
CATEGORIES:board
END:VEVENT
BEGIN:VTIMEZONE
TZID:America/New_York
X-LIC-LOCATION:America/New_York
BEGIN:STANDARD
DTSTART:20231105T010000
TZOFFSETFROM:-0400
TZOFFSETTO:-0500
TZNAME:EST
END:STANDARD
END:VTIMEZONE
END:VCALENDAR