BEGIN:VCALENDAR
VERSION:2.0
PRODID:-//wp-events-plugin.com//7.2.3.1//EN
TZID:America/New_York
X-WR-TIMEZONE:America/New_York
BEGIN:VEVENT
UID:21@flwheatenclub.org
DTSTART;TZID=America/New_York:20241110T100000
DTEND;TZID=America/New_York:20241110T133000
DTSTAMP:20241105T131451Z
URL:https://flwheatenclub.org/events/general-meeting-annual-picnic/
SUMMARY:General Meeting  (2 of 2) & Annual Picnic
DESCRIPTION:\n\n\n\n\nLocation - the Picnic Pavilion at Bob Gardner Park in
  Lakewood Ranch\n\nDate: Sunday\, Nov 10\, 2024\n\nTime: from 10 AM – 1:
 30 PM.\n\n&nbsp\;\n\n\n\n\n
CATEGORIES:board,member
LOCATION:The Picnic Pavilion at Bob Gardner Park in Lakewood Ranch\, 2710 W
 hite Eagle Blvd.\, Bradenton\, FL\, 34211\, United States
X-APPLE-STRUCTURED-LOCATION;VALUE=URI;X-ADDRESS=2710 White Eagle Blvd.\, Br
 adenton\, FL\, 34211\, United States;X-APPLE-RADIUS=100;X-TITLE=The Picnic
  Pavilion at Bob Gardner Park in Lakewood Ranch:geo:0,0
END:VEVENT
BEGIN:VTIMEZONE
TZID:America/New_York
X-LIC-LOCATION:America/New_York
BEGIN:STANDARD
DTSTART:20241103T010000
TZOFFSETFROM:-0400
TZOFFSETTO:-0500
TZNAME:EST
END:STANDARD
END:VTIMEZONE
END:VCALENDAR