BEGIN:VCALENDAR
VERSION:2.0
PRODID:-//wp-events-plugin.com//7.2.3.1//EN
TZID:America/New_York
X-WR-TIMEZONE:America/New_York
BEGIN:VEVENT
UID:105@flwheatenclub.org
DTSTART;TZID=America/New_York;VALUE=DATE:20250217
DTEND;TZID=America/New_York;VALUE=DATE:20250218
DTSTAMP:20241101T131927Z
URL:https://flwheatenclub.org/events/presidents-day/
SUMMARY:President's Day
DESCRIPTION:
CATEGORIES:board,member
END:VEVENT
BEGIN:VTIMEZONE
TZID:America/New_York
X-LIC-LOCATION:America/New_York
BEGIN:STANDARD
DTSTART:20241103T010000
TZOFFSETFROM:-0400
TZOFFSETTO:-0500
TZNAME:EST
END:STANDARD
END:VTIMEZONE
END:VCALENDAR